BEGIN:VCALENDAR
VERSION:2.0
PRODID:-//Patricia Fanaro | Training &amp; Beratung - ECPv6.14.0//NONSGML v1.0//EN
CALSCALE:GREGORIAN
METHOD:PUBLISH
X-ORIGINAL-URL:https://www.patricia-fanaro.de
X-WR-CALDESC:Veranstaltungen für Patricia Fanaro | Training &amp; Beratung
REFRESH-INTERVAL;VALUE=DURATION:PT1H
X-Robots-Tag:noindex
X-PUBLISHED-TTL:PT1H
BEGIN:VTIMEZONE
TZID:Europe/Berlin
BEGIN:DAYLIGHT
TZOFFSETFROM:+0100
TZOFFSETTO:+0200
TZNAME:CEST
DTSTART:20260329T010000
END:DAYLIGHT
BEGIN:STANDARD
TZOFFSETFROM:+0200
TZOFFSETTO:+0100
TZNAME:CET
DTSTART:20261025T010000
END:STANDARD
END:VTIMEZONE
BEGIN:VEVENT
DTSTART;TZID=Europe/Berlin:20261202T090000
DTEND;TZID=Europe/Berlin:20261203T170000
DTSTAMP:20260422T043754
CREATED:20230820T193106Z
LAST-MODIFIED:20250716T122253Z
UID:9057-1796202000-1796317200@www.patricia-fanaro.de
SUMMARY:Führungs- und Methodenkompetenz "Basis II" vom 02.12.26 - 03.12.26 (Online)
DESCRIPTION:Zur Anmeldung ausgefülltes Anmeldeformular per Fax oder eMail zusenden. \nDetails finden Sie auf der Seite Beratung medizinischer Einrichtungen > Führungs- und Methodenkompetenz!
URL:https://www.patricia-fanaro.de/termin/fuehrungs-und-methodenkompetenz-basis-ii-vom-02-12-03-12-26-online/
LOCATION:Online
CATEGORIES:Beratung
ORGANIZER;CN="Patricia Fanaro":MAILTO:info@patricia-fanaro.de
END:VEVENT
END:VCALENDAR