BEGIN:VCALENDAR
VERSION:2.0
PRODID:-//Patricia Fanaro | Training &amp; Beratung - ECPv6.14.0//NONSGML v1.0//EN
CALSCALE:GREGORIAN
METHOD:PUBLISH
X-WR-CALNAME:Patricia Fanaro | Training &amp; Beratung
X-ORIGINAL-URL:https://www.patricia-fanaro.de
X-WR-CALDESC:Veranstaltungen für Patricia Fanaro | Training &amp; Beratung
REFRESH-INTERVAL;VALUE=DURATION:PT1H
X-Robots-Tag:noindex
X-PUBLISHED-TTL:PT1H
BEGIN:VTIMEZONE
TZID:Europe/Berlin
BEGIN:DAYLIGHT
TZOFFSETFROM:+0100
TZOFFSETTO:+0200
TZNAME:CEST
DTSTART:20250330T010000
END:DAYLIGHT
BEGIN:STANDARD
TZOFFSETFROM:+0200
TZOFFSETTO:+0100
TZNAME:CET
DTSTART:20251026T010000
END:STANDARD
END:VTIMEZONE
BEGIN:VEVENT
DTSTART;TZID=Europe/Berlin:20250219T090000
DTEND;TZID=Europe/Berlin:20250220T170000
DTSTAMP:20260422T044550
CREATED:20230820T194335Z
LAST-MODIFIED:20241028T172038Z
UID:9066-1739955600-1740070800@www.patricia-fanaro.de
SUMMARY:Führungs- und Methodenkompetenz „Zeitmanagement“ am 19.02.25 - 20.02.25 (Online)
DESCRIPTION:Zur Anmeldung ausgefülltes Anmeldeformular per Fax oder eMail zusenden. \nDetails finden Sie auf der Seite Beratung medizinischer Einrichtungen > Führungs- und Methodenkompetenz!
URL:https://www.patricia-fanaro.de/termin/fuehrungs-und-methodenkompetenz-zeitmanagement-am-19-02-25-20-02-25-online/
LOCATION:Online
CATEGORIES:Beratung
ORGANIZER;CN="Patricia Fanaro":MAILTO:info@patricia-fanaro.de
END:VEVENT
END:VCALENDAR